Workbook

Sheet シフト表
A1: =設定!B3&"年"&設定!B4&"月 シフト表"
A3: 日付 | B3: =IF(1>DAY(DATE(設定!$B$3,設定!$B$4+1,0)),"",DATE(設定!$B$3,設定!$B$4,1)) | C3: =IF(2>DAY(DATE(設定!$B$3,設定!$B$4+1,0)),"",DATE(設定!$B$3,設定!$B$4,2)) | D3: =IF(3>DAY(DATE(設定!$B$3,設定!$B$4+1,0)),"",DATE(設定!$B$3,設定!$B$4,3)) | E3: =IF(4>DAY(DATE(設定!$B$3,設定!$B$4+1,0)),"",DATE(設定!$B$3,設定!$B$4,4)) | F3: =IF(5>DAY(DATE(設定!$B$3,設定!$B$4+1,0)),"",DATE(設定!$B$3,設定!$B$4,5)) | G3: =IF(6>DAY(DATE(設定!$B$3,設定!$B$4+1,0)),"",DATE(設定!$B$3,設定!$B$4,6)) | H3: =IF(7>DAY(DATE(設定!$B$3,設定!$B$4+1,0)),"",DATE(設定!$B$3,設定!$B$4,7)) | I3: =IF(8>DAY(DATE(設定!$B$3,設定!$B$4+1,0)),"",DATE(設定!$B$3,設定!$B$4,8)) | J3: =IF(9>DAY(DATE(設定!$B$3,設定!$B$4+1,0)),"",DATE(設定!$B$3,設定!$B$4,9)) | K3: =IF(10>DAY(DATE(設定!$B$3,設定!$B$4+1,0)),"",DATE(設定!$B$3,設定!$B$4,10)) | L3: =IF(11>DAY(DATE(設定!$B$3,設定!$B$4+1,0)),"",DATE(設定!$B$3,設定!$B$4,11)) | M3: =IF(12>DAY(DATE(設定!$B$3,設定!$B$4+1,0)),"",DATE(設定!$B$3,設定!$B$4,12)) | N3: =IF(13>DAY(DATE(設定!$B$3,設定!$B$4+1,0)),"",DATE(設定!$B$3,設定!$B$4,13)) | O3: =IF(14>DAY(DATE(設定!$B$3,設定!$B$4+1,0)),"",DATE(設定!$B$3,設定!$B$4,14)) | P3: =IF(15>DAY(DATE(設定!$B$3,設定!$B$4+1,0)),"",DATE(設定!$B$3,設定!$B$4,15)) | Q3: =IF(16>DAY(DATE(設定!$B$3,設定!$B$4+1,0)),"",DATE(設定!$B$3,設定!$B$4,16)) | R3: =IF(17>DAY(DATE(設定!$B$3,設定!$B$4+1,0)),"",DATE(設定!$B$3,設定!$B$4,17)) | S3: =IF(18>DAY(DATE(設定!$B$3,設定!$B$4+1,0)),"",DATE(設定!$B$3,設定!$B$4,18)) | T3: =IF(19>DAY(DATE(設定!$B$3,設定!$B$4+1,0)),"",DATE(設定!$B$3,設定!$B$4,19)) | U3: =IF(20>DAY(DATE(設定!$B$3,設定!$B$4+1,0)),"",DATE(設定!$B$3,設定!$B$4,20)) | V3: =IF(21>DAY(DATE(設定!$B$3,設定!$B$4+1,0)),"",DATE(設定!$B$3,設定!$B$4,21)) | W3: =IF(22>DAY(DATE(設定!$B$3,設定!$B$4+1,0)),"",DATE(設定!$B$3,設定!$B$4,22)) | X3: =IF(23>DAY(DATE(設定!$B$3,設定!$B$4+1,0)),"",DATE(設定!$B$3,設定!$B$4,23)) | Y3: =IF(24>DAY(DATE(設定!$B$3,設定!$B$4+1,0)),"",DATE(設定!$B$3,設定!$B$4,24)) | Z3: =IF(25>DAY(DATE(設定!$B$3,設定!$B$4+1,0)),"",DATE(設定!$B$3,設定!$B$4,25)) | AA3: =IF(26>DAY(DATE(設定!$B$3,設定!$B$4+1,0)),"",DATE(設定!$B$3,設定!$B$4,26)) | AB3: =IF(27>DAY(DATE(設定!$B$3,設定!$B$4+1,0)),"",DATE(設定!$B$3,設定!$B$4,27)) | AC3: =IF(28>DAY(DATE(設定!$B$3,設定!$B$4+1,0)),"",DATE(設定!$B$3,設定!$B$4,28)) | AD3: =IF(29>DAY(DATE(設定!$B$3,設定!$B$4+1,0)),"",DATE(設定!$B$3,設定!$B$4,29)) | AE3: =IF(30>DAY(DATE(設定!$B$3,設定!$B$4+1,0)),"",DATE(設定!$B$3,設定!$B$4,30)) | AF3: =IF(31>DAY(DATE(設定!$B$3,設定!$B$4+1,0)),"",DATE(設定!$B$3,設定!$B$4,31)) | AG3: 出勤日数 | AH3: 休日数
A4: 曜日 | B4: =IF(B3="","",CHOOSE(WEEKDAY(B3),"日","月","火","水","木","金","土")) | C4: =IF(C3="","",CHOOSE(WEEKDAY(C3),"日","月","火","水","木","金","土")) | D4: =IF(D3="","",CHOOSE(WEEKDAY(D3),"日","月","火","水","木","金","土")) | E4: =IF(E3="","",CHOOSE(WEEKDAY(E3),"日","月","火","水","木","金","土")) | F4: =IF(F3="","",CHOOSE(WEEKDAY(F3),"日","月","火","水","木","金","土")) | G4: =IF(G3="","",CHOOSE(WEEKDAY(G3),"日","月","火","水","木","金","土")) | H4: =IF(H3="","",CHOOSE(WEEKDAY(H3),"日","月","火","水","木","金","土")) | I4: =IF(I3="","",CHOOSE(WEEKDAY(I3),"日","月","火","水","木","金","土")) | ... AF4: =IF(AF3="","",CHOOSE(WEEKDAY(AF3),"日","月","火","水","木","金","土"))
A5: 佐藤 | B5: 遅 | C5: 休 | D5: 日 | E5: 短 | F5: 遅 | G5: 日 | H5: 早 | I5: 遅 | J5: 休 | K5: 休 | L5: 遅 | M5: 遅 | N5: 遅 | O5: 休 | P5: 休 | Q5: 遅 | R5: 早 | S5: 日 | T5: 遅 | U5: 日 | V5: 休 | W5: 早 | X5: 早 | Y5: 日 | Z5: 日 | AA5: 早 | AB5: 休 | AC5: 早 | AD5: 休 | AE5: 遅 | AG5: =COUNTA(B5:AF5)-COUNTIF(B5:AF5,"休")-COUNTIF(B5:AF5,"有") | AH5: =COUNTIF(B5:AF5,"休")+COUNTIF(B5:AF5,"有")
A6: 鈴木 | B6: 早 | C6: 早 | D6: 早 | E6: 遅 | F6: 日 | G6: 短 | H6: 日 | I6: 早 | J6: 日 | K6: 遅 | L6: 遅 | M6: 休 | N6: 早 | O6: 休 | P6: 早 | Q6: 休 | R6: 早 | S6: 短 | T6: 休 | U6: 早 | V6: 遅 | W6: 短 | X6: 早 | Y6: 休 | Z6: 日 | AA6: 短 | AB6: 休 | AC6: 日 | AD6: 遅 | AE6: 休 | AG6: =COUNTA(B6:AF6)-COUNTIF(B6:AF6,"休")-COUNTIF(B6:AF6,"有") | AH6: =COUNTIF(B6:AF6,"休")+COUNTIF(B6:AF6,"有")
A7: 高橋 | B7: 休 | C7: 日 | D7: 日 | E7: 遅 | F7: 遅 | G7: 日 | H7: 短 | I7: 日 | J7: 早 | K7: 日 | L7: 早 | M7: 休 | N7: 早 | O7: 早 | P7: 日 | Q7: 早 | R7: 早 | S7: 早 | T7: 短 | U7: 休 | V7: 休 | W7: 休 | X7: 遅 | Y7: 早 | Z7: 休 | AA7: 早 | AB7: 日 | AC7: 日 | AD7: 休 | AE7: 早 | AG7: =COUNTA(B7:AF7)-COUNTIF(B7:AF7,"休")-COUNTIF(B7:AF7,"有") | AH7: =COUNTIF(B7:AF7,"休")+COUNTIF(B7:AF7,"有")
A8: 田中 | B8: 遅 | C8: 早 | D8: 休 | E8: 夜 | F8: 休 | G8: 日 | H8: 早 | I8: 短 | J8: 短 | K8: 短 | L8: 日 | M8: 早 | N8: 早 | O8: 遅 | P8: 休 | Q8: 早 | R8: 夜 | S8: 休 | T8: 日 | U8: 夜 | V8: 休 | W8: 休 | X8: 早 | Y8: 遅 | Z8: 休 | AA8: 早 | AB8: 休 | AC8: 休 | AD8: 休 | AE8: 休 | AG8: =COUNTA(B8:AF8)-COUNTIF(B8:AF8,"休")-COUNTIF(B8:AF8,"有") | AH8: =COUNTIF(B8:AF8,"休")+COUNTIF(B8:AF8,"有")
A9: 伊藤 | B9: 短 | C9: 早 | D9: 早 | E9: 短 | F9: 早 | G9: 早 | H9: 日 | I9: 早 | J9: 短 | K9: 遅 | L9: 短 | M9: 短 | N9: 休 | O9: 遅 | P9: 早 | Q9: 早 | R9: 早 | S9: 短 | T9: 休 | U9: 遅 | V9: 休 | W9: 短 | X9: 日 | Y9: 短 | Z9: 日 | AA9: 短 | AB9: 短 | AC9: 休 | AD9: 休 | AE9: 早 | AG9: =COUNTA(B9:AF9)-COUNTIF(B9:AF9,"休")-COUNTIF(B9:AF9,"有") | AH9: =COUNTIF(B9:AF9,"休")+COUNTIF(B9:AF9,"有")
A10: 出勤人数 | B10: =IF(B$3="","",COUNTA(B5:B9)-COUNTIF(B5:B9,"休")-COUNTIF(B5:B9,"有")) | C10: =IF(C$3="","",COUNTA(C5:C9)-COUNTIF(C5:C9,"休")-COUNTIF(C5:C9,"有")) | D10: =IF(D$3="","",COUNTA(D5:D9)-COUNTIF(D5:D9,"休")-COUNTIF(D5:D9,"有")) | E10: =IF(E$3="","",COUNTA(E5:E9)-COUNTIF(E5:E9,"休")-COUNTIF(E5:E9,"有")) | F10: =IF(F$3="","",COUNTA(F5:F9)-COUNTIF(F5:F9,"休")-COUNTIF(F5:F9,"有")) | G10: =IF(G$3="","",COUNTA(G5:G9)-COUNTIF(G5:G9,"休")-COUNTIF(G5:G9,"有")) | H10: =IF(H$3="","",COUNTA(H5:H9)-COUNTIF(H5:H9,"休")-COUNTIF(H5:H9,"有")) | I10: =IF(I$3="","",COUNTA(I5:I9)-COUNTIF(I5:I9,"休")-COUNTIF(I5:I9,"有")) | ... AF10: =IF(AF$3="","",COUNTA(AF5:AF9)-COUNTIF(AF5:AF9,"休")-COUNTIF(AF5:AF9,"有"))
A12: 勤務記号：早 7-16 / 日 9-18 / 遅 13-22 / 夜 22-翌7 / 短 10-15 / 休 / 有（設定シートで変更可）
A13: 無料版｜全機能版はBOOTHで販売中 © Kentinua ｜ https://tools.kentinua.com/

Sheet 設定
A1: 設定
H2: 祝日一覧（追加・修正できます）
A3: 年 | B3: 2026 | H3: 日付 | I3: 名称
A4: 月 | B4: 11 | H4: ※祝日の自動色分けは全機能版のみ
A6: 勤務記号 | B6: 開始 | C6: 終了 | D6: 休憩(時間) | E6: 勤務時間
A7: 早 | B7: 0.29166667 | C7: 0.66666667 | D7: 1 | E7: =IF(B7="",IF(A7="有",8,0),MOD(C7-B7,1)*24-D7)
A8: 日 | B8: 0.375 | C8: 0.75 | D8: 1 | E8: =IF(B8="",IF(A8="有",8,0),MOD(C8-B8,1)*24-D8)
A9: 遅 | B9: 0.54166667 | C9: 0.91666667 | D9: 1 | E9: =IF(B9="",IF(A9="有",8,0),MOD(C9-B9,1)*24-D9)
A10: 夜 | B10: 0.91666667 | C10: 0.29166667 | D10: 1 | E10: =IF(B10="",IF(A10="有",8,0),MOD(C10-B10,1)*24-D10)
A11: 短 | B11: 0.41666667 | C11: 0.625 | D11: 0 | E11: =IF(B11="",IF(A11="有",8,0),MOD(C11-B11,1)*24-D11)
A12: 休 | E12: =IF(B12="",IF(A12="有",8,0),MOD(C12-B12,1)*24-D12)
A13: 有 | E13: =IF(B13="",IF(A13="有",8,0),MOD(C13-B13,1)*24-D13)
A15: ※「夜」は日付をまたぐ勤務にも対応。「有」(有給)は8時間で計算します（E列を直接書き換え可）。
A17: 無料版｜全機能版はBOOTHで販売中 © Kentinua ｜ https://tools.kentinua.com/
