Workbook

Sheet 入力
A1: 家計簿 入力シート（1行に1件） | H1: 無料版｜全機能版はBOOTHで販売中 © Kentinua ｜ https://tools.kentinua.com/
A3: 日付 | B3: 区分 | C3: 費目 | D3: 内容・メモ | E3: 金額 | F3: 支払方法
A4: 46026 | B4: 支出 | C4: 水道光熱費 | E4: 12430 | F4: 現金
A5: 46033 | B5: 支出 | C5: 食費 | E5: 61360 | F5: カード
A6: 46039 | B6: 支出 | C6: 通信費 | E6: 5950 | F6: 現金
A7: 46043 | B7: 支出 | C7: 日用品 | E7: 5870 | F7: 電子マネー
A8: 46047 | B8: 収入 | C8: 給与 | D8: 月給 | E8: 280000 | F8: 振込
A9: 46049 | B9: 支出 | C9: 住居費 | D9: 家賃 | E9: 85000 | F9: 振込
A10: 46056 | B10: 支出 | C10: 日用品 | E10: 8690 | F10: 現金
A11: 46067 | B11: 支出 | C11: 食費 | E11: 44670 | F11: 現金
A12: 46072 | B12: 支出 | C12: 水道光熱費 | E12: 10230 | F12: 現金
A13: 46074 | B13: 支出 | C13: 通信費 | E13: 7970 | F13: 現金
A14: 46078 | B14: 収入 | C14: 給与 | D14: 月給 | E14: 280000 | F14: 振込
A15: 46080 | B15: 支出 | C15: 住居費 | D15: 家賃 | E15: 85000 | F15: 振込
A16: 46085 | B16: 支出 | C16: 通信費 | E16: 7700 | F16: 電子マネー
A17: 46089 | B17: 支出 | C17: 日用品 | E17: 5860 | F17: 現金
A18: 46091 | B18: 支出 | C18: 水道光熱費 | E18: 12910 | F18: 電子マネー
A19: 46100 | B19: 支出 | C19: 食費 | E19: 49940 | F19: 現金
A20: 46106 | B20: 収入 | C20: 給与 | D20: 月給 | E20: 280000 | F20: 振込
A21: 46108 | B21: 支出 | C21: 住居費 | D21: 家賃 | E21: 85000 | F21: 振込
A22: 46116 | B22: 支出 | C22: 水道光熱費 | E22: 14080 | F22: 現金
A23: 46131 | B23: 支出 | C23: 日用品 | E23: 9180 | F23: カード
A24: 46131 | B24: 支出 | C24: 通信費 | E24: 5190 | F24: 現金
A25: 46134 | B25: 支出 | C25: 食費 | E25: 37190 | F25: 電子マネー
A26: 46137 | B26: 収入 | C26: 給与 | D26: 月給 | E26: 280000 | F26: 振込
A27: 46139 | B27: 支出 | C27: 住居費 | D27: 家賃 | E27: 85000 | F27: 振込
A28: 46153 | B28: 支出 | C28: 日用品 | E28: 8210 | F28: カード
A29: 46154 | B29: 支出 | C29: 水道光熱費 | E29: 11830 | F29: 現金
A30: 46158 | B30: 支出 | C30: 食費 | E30: 52930 | F30: カード
A31: 46165 | B31: 支出 | C31: 通信費 | E31: 8720 | F31: 現金
A32: 46167 | B32: 収入 | C32: 給与 | D32: 月給 | E32: 280000 | F32: 振込
A33: 46169 | B33: 支出 | C33: 住居費 | D33: 家賃 | E33: 85000 | F33: 振込
A34: 46183 | B34: 収入 | C34: その他収入 | D34: ボーナス | E34: 400000 | F34: 振込
A35: 46184 | B35: 支出 | C35: 日用品 | E35: 9680 | F35: カード
A36: 46190 | B36: 支出 | C36: 通信費 | E36: 6950 | F36: カード
A37: 46192 | B37: 支出 | C37: 食費 | E37: 40960 | F37: カード
A38: 46193 | B38: 支出 | C38: 水道光熱費 | E38: 18020 | F38: 現金
A39: 46198 | B39: 収入 | C39: 給与 | D39: 月給 | E39: 280000 | F39: 振込
A40: 46200 | B40: 支出 | C40: 住居費 | D40: 家賃 | E40: 85000 | F40: 振込
A41: 46205 | B41: 支出 | C41: 日用品 | E41: 10990 | F41: 現金
...

Sheet 集計
A1: =設定!B3&"年 月別・費目別集計"
B2: 1 | C2: 2 | D2: 3 | E2: 4 | F2: 5 | G2: 6 | H2: 7 | I2: 8 | J2: 9 | K2: 10 | L2: 11 | M2: 12
A3: 費目 | B3: 1月 | C3: 2月 | D3: 3月 | E3: 4月 | F3: 5月 | G3: 6月 | H3: 7月 | I3: 8月 | J3: 9月 | K3: 10月 | L3: 11月 | M3: 12月 | N3: 年間合計 | O3: 月平均 | P3: 構成比
A4: 【収入】
A5: =IF(設定!B6="","",設定!B6) | B5: =IF($A5="",0,SUMIFS(入力!$E$4:$E$203,入力!$B$4:$B$203,"収入",入力!$C$4:$C$203,$A5,入力!$A$4:$A$203,">="&DATE(設定!$B$3,B$2,1),入力!$A$4:$A$203,"<"&DATE(設定!$B$3,B$2+1,1))) | C5: =IF($A5="",0,SUMIFS(入力!$E$4:$E$203,入力!$B$4:$B$203,"収入",入力!$C$4:$C$203,$A5,入力!$A$4:$A$203,">="&DATE(設定!$B$3,C$2,1),入力!$A$4:$A$203,"<"&DATE(設定!$B$3,C$2+1,1))) | D5: =IF($A5="",0,SUMIFS(入力!$E$4:$E$203,入力!$B$4:$B$203,"収入",入力!$C$4:$C$203,$A5,入力!$A$4:$A$203,">="&DATE(設定!$B$3,D$2,1),入力!$A$4:$A$203,"<"&DATE(設定!$B$3,D$2+1,1))) | E5: =IF($A5="",0,SUMIFS(入力!$E$4:$E$203,入力!$B$4:$B$203,"収入",入力!$C$4:$C$203,$A5,入力!$A$4:$A$203,">="&DATE(設定!$B$3,E$2,1),入力!$A$4:$A$203,"<"&DATE(設定!$B$3,E$2+1,1))) | F5: =IF($A5="",0,SUMIFS(入力!$E$4:$E$203,入力!$B$4:$B$203,"収入",入力!$C$4:$C$203,$A5,入力!$A$4:$A$203,">="&DATE(設定!$B$3,F$2,1),入力!$A$4:$A$203,"<"&DATE(設定!$B$3,F$2+1,1))) | G5: =IF($A5="",0,SUMIFS(入力!$E$4:$E$203,入力!$B$4:$B$203,"収入",入力!$C$4:$C$203,$A5,入力!$A$4:$A$203,">="&DATE(設定!$B$3,G$2,1),入力!$A$4:$A$203,"<"&DATE(設定!$B$3,G$2+1,1))) | H5: =IF($A5="",0,SUMIFS(入力!$E$4:$E$203,入力!$B$4:$B$203,"収入",入力!$C$4:$C$203,$A5,入力!$A$4:$A$203,">="&DATE(設定!$B$3,H$2,1),入力!$A$4:$A$203,"<"&DATE(設定!$B$3,H$2+1,1))) | I5: =IF($A5="",0,SUMIFS(入力!$E$4:$E$203,入力!$B$4:$B$203,"収入",入力!$C$4:$C$203,$A5,入力!$A$4:$A$203,">="&DATE(設定!$B$3,I$2,1),入力!$A$4:$A$203,"<"&DATE(設定!$B$3,I$2+1,1))) | ... M5: =IF($A5="",0,SUMIFS(入力!$E$4:$E$203,入力!$B$4:$B$203,"収入",入力!$C$4:$C$203,$A5,入力!$A$4:$A$203,">="&DATE(設定!$B$3,M$2,1),入力!$A$4:$A$203,"<"&DATE(設定!$B$3,M$2+1,1))) | N5: =SUM(B5:M5) | O5: =ROUND(N5/12,0)
A6: =IF(設定!B7="","",設定!B7) | B6: =IF($A6="",0,SUMIFS(入力!$E$4:$E$203,入力!$B$4:$B$203,"収入",入力!$C$4:$C$203,$A6,入力!$A$4:$A$203,">="&DATE(設定!$B$3,B$2,1),入力!$A$4:$A$203,"<"&DATE(設定!$B$3,B$2+1,1))) | C6: =IF($A6="",0,SUMIFS(入力!$E$4:$E$203,入力!$B$4:$B$203,"収入",入力!$C$4:$C$203,$A6,入力!$A$4:$A$203,">="&DATE(設定!$B$3,C$2,1),入力!$A$4:$A$203,"<"&DATE(設定!$B$3,C$2+1,1))) | D6: =IF($A6="",0,SUMIFS(入力!$E$4:$E$203,入力!$B$4:$B$203,"収入",入力!$C$4:$C$203,$A6,入力!$A$4:$A$203,">="&DATE(設定!$B$3,D$2,1),入力!$A$4:$A$203,"<"&DATE(設定!$B$3,D$2+1,1))) | E6: =IF($A6="",0,SUMIFS(入力!$E$4:$E$203,入力!$B$4:$B$203,"収入",入力!$C$4:$C$203,$A6,入力!$A$4:$A$203,">="&DATE(設定!$B$3,E$2,1),入力!$A$4:$A$203,"<"&DATE(設定!$B$3,E$2+1,1))) | F6: =IF($A6="",0,SUMIFS(入力!$E$4:$E$203,入力!$B$4:$B$203,"収入",入力!$C$4:$C$203,$A6,入力!$A$4:$A$203,">="&DATE(設定!$B$3,F$2,1),入力!$A$4:$A$203,"<"&DATE(設定!$B$3,F$2+1,1))) | G6: =IF($A6="",0,SUMIFS(入力!$E$4:$E$203,入力!$B$4:$B$203,"収入",入力!$C$4:$C$203,$A6,入力!$A$4:$A$203,">="&DATE(設定!$B$3,G$2,1),入力!$A$4:$A$203,"<"&DATE(設定!$B$3,G$2+1,1))) | H6: =IF($A6="",0,SUMIFS(入力!$E$4:$E$203,入力!$B$4:$B$203,"収入",入力!$C$4:$C$203,$A6,入力!$A$4:$A$203,">="&DATE(設定!$B$3,H$2,1),入力!$A$4:$A$203,"<"&DATE(設定!$B$3,H$2+1,1))) | I6: =IF($A6="",0,SUMIFS(入力!$E$4:$E$203,入力!$B$4:$B$203,"収入",入力!$C$4:$C$203,$A6,入力!$A$4:$A$203,">="&DATE(設定!$B$3,I$2,1),入力!$A$4:$A$203,"<"&DATE(設定!$B$3,I$2+1,1))) | ... M6: =IF($A6="",0,SUMIFS(入力!$E$4:$E$203,入力!$B$4:$B$203,"収入",入力!$C$4:$C$203,$A6,入力!$A$4:$A$203,">="&DATE(設定!$B$3,M$2,1),入力!$A$4:$A$203,"<"&DATE(設定!$B$3,M$2+1,1))) | N6: =SUM(B6:M6) | O6: =ROUND(N6/12,0)
A7: 収入合計 | B7: =SUM(B5:B6) | C7: =SUM(C5:C6) | D7: =SUM(D5:D6) | E7: =SUM(E5:E6) | F7: =SUM(F5:F6) | G7: =SUM(G5:G6) | H7: =SUM(H5:H6) | I7: =SUM(I5:I6) | ... M7: =SUM(M5:M6) | N7: =SUM(B7:M7) | O7: =ROUND(N7/12,0)
A9: 【支出】
A10: =IF(設定!A6="","",設定!A6) | B10: =IF($A10="",0,SUMIFS(入力!$E$4:$E$203,入力!$B$4:$B$203,"支出",入力!$C$4:$C$203,$A10,入力!$A$4:$A$203,">="&DATE(設定!$B$3,B$2,1),入力!$A$4:$A$203,"<"&DATE(設定!$B$3,B$2+1,1))) | C10: =IF($A10="",0,SUMIFS(入力!$E$4:$E$203,入力!$B$4:$B$203,"支出",入力!$C$4:$C$203,$A10,入力!$A$4:$A$203,">="&DATE(設定!$B$3,C$2,1),入力!$A$4:$A$203,"<"&DATE(設定!$B$3,C$2+1,1))) | D10: =IF($A10="",0,SUMIFS(入力!$E$4:$E$203,入力!$B$4:$B$203,"支出",入力!$C$4:$C$203,$A10,入力!$A$4:$A$203,">="&DATE(設定!$B$3,D$2,1),入力!$A$4:$A$203,"<"&DATE(設定!$B$3,D$2+1,1))) | E10: =IF($A10="",0,SUMIFS(入力!$E$4:$E$203,入力!$B$4:$B$203,"支出",入力!$C$4:$C$203,$A10,入力!$A$4:$A$203,">="&DATE(設定!$B$3,E$2,1),入力!$A$4:$A$203,"<"&DATE(設定!$B$3,E$2+1,1))) | F10: =IF($A10="",0,SUMIFS(入力!$E$4:$E$203,入力!$B$4:$B$203,"支出",入力!$C$4:$C$203,$A10,入力!$A$4:$A$203,">="&DATE(設定!$B$3,F$2,1),入力!$A$4:$A$203,"<"&DATE(設定!$B$3,F$2+1,1))) | G10: =IF($A10="",0,SUMIFS(入力!$E$4:$E$203,入力!$B$4:$B$203,"支出",入力!$C$4:$C$203,$A10,入力!$A$4:$A$203,">="&DATE(設定!$B$3,G$2,1),入力!$A$4:$A$203,"<"&DATE(設定!$B$3,G$2+1,1))) | H10: =IF($A10="",0,SUMIFS(入力!$E$4:$E$203,入力!$B$4:$B$203,"支出",入力!$C$4:$C$203,$A10,入力!$A$4:$A$203,">="&DATE(設定!$B$3,H$2,1),入力!$A$4:$A$203,"<"&DATE(設定!$B$3,H$2+1,1))) | I10: =IF($A10="",0,SUMIFS(入力!$E$4:$E$203,入力!$B$4:$B$203,"支出",入力!$C$4:$C$203,$A10,入力!$A$4:$A$203,">="&DATE(設定!$B$3,I$2,1),入力!$A$4:$A$203,"<"&DATE(設定!$B$3,I$2+1,1))) | ... M10: =IF($A10="",0,SUMIFS(入力!$E$4:$E$203,入力!$B$4:$B$203,"支出",入力!$C$4:$C$203,$A10,入力!$A$4:$A$203,">="&DATE(設定!$B$3,M$2,1),入力!$A$4:$A$203,"<"&DATE(設定!$B$3,M$2+1,1))) | N10: =SUM(B10:M10) | O10: =ROUND(N10/12,0) | P10: =IF($N$16=0,0,N10/$N$16)
A11: =IF(設定!A7="","",設定!A7) | B11: =IF($A11="",0,SUMIFS(入力!$E$4:$E$203,入力!$B$4:$B$203,"支出",入力!$C$4:$C$203,$A11,入力!$A$4:$A$203,">="&DATE(設定!$B$3,B$2,1),入力!$A$4:$A$203,"<"&DATE(設定!$B$3,B$2+1,1))) | C11: =IF($A11="",0,SUMIFS(入力!$E$4:$E$203,入力!$B$4:$B$203,"支出",入力!$C$4:$C$203,$A11,入力!$A$4:$A$203,">="&DATE(設定!$B$3,C$2,1),入力!$A$4:$A$203,"<"&DATE(設定!$B$3,C$2+1,1))) | D11: =IF($A11="",0,SUMIFS(入力!$E$4:$E$203,入力!$B$4:$B$203,"支出",入力!$C$4:$C$203,$A11,入力!$A$4:$A$203,">="&DATE(設定!$B$3,D$2,1),入力!$A$4:$A$203,"<"&DATE(設定!$B$3,D$2+1,1))) | E11: =IF($A11="",0,SUMIFS(入力!$E$4:$E$203,入力!$B$4:$B$203,"支出",入力!$C$4:$C$203,$A11,入力!$A$4:$A$203,">="&DATE(設定!$B$3,E$2,1),入力!$A$4:$A$203,"<"&DATE(設定!$B$3,E$2+1,1))) | F11: =IF($A11="",0,SUMIFS(入力!$E$4:$E$203,入力!$B$4:$B$203,"支出",入力!$C$4:$C$203,$A11,入力!$A$4:$A$203,">="&DATE(設定!$B$3,F$2,1),入力!$A$4:$A$203,"<"&DATE(設定!$B$3,F$2+1,1))) | G11: =IF($A11="",0,SUMIFS(入力!$E$4:$E$203,入力!$B$4:$B$203,"支出",入力!$C$4:$C$203,$A11,入力!$A$4:$A$203,">="&DATE(設定!$B$3,G$2,1),入力!$A$4:$A$203,"<"&DATE(設定!$B$3,G$2+1,1))) | H11: =IF($A11="",0,SUMIFS(入力!$E$4:$E$203,入力!$B$4:$B$203,"支出",入力!$C$4:$C$203,$A11,入力!$A$4:$A$203,">="&DATE(設定!$B$3,H$2,1),入力!$A$4:$A$203,"<"&DATE(設定!$B$3,H$2+1,1))) | I11: =IF($A11="",0,SUMIFS(入力!$E$4:$E$203,入力!$B$4:$B$203,"支出",入力!$C$4:$C$203,$A11,入力!$A$4:$A$203,">="&DATE(設定!$B$3,I$2,1),入力!$A$4:$A$203,"<"&DATE(設定!$B$3,I$2+1,1))) | ... M11: =IF($A11="",0,SUMIFS(入力!$E$4:$E$203,入力!$B$4:$B$203,"支出",入力!$C$4:$C$203,$A11,入力!$A$4:$A$203,">="&DATE(設定!$B$3,M$2,1),入力!$A$4:$A$203,"<"&DATE(設定!$B$3,M$2+1,1))) | N11: =SUM(B11:M11) | O11: =ROUND(N11/12,0) | P11: =IF($N$16=0,0,N11/$N$16)
A12: =IF(設定!A8="","",設定!A8) | B12: =IF($A12="",0,SUMIFS(入力!$E$4:$E$203,入力!$B$4:$B$203,"支出",入力!$C$4:$C$203,$A12,入力!$A$4:$A$203,">="&DATE(設定!$B$3,B$2,1),入力!$A$4:$A$203,"<"&DATE(設定!$B$3,B$2+1,1))) | C12: =IF($A12="",0,SUMIFS(入力!$E$4:$E$203,入力!$B$4:$B$203,"支出",入力!$C$4:$C$203,$A12,入力!$A$4:$A$203,">="&DATE(設定!$B$3,C$2,1),入力!$A$4:$A$203,"<"&DATE(設定!$B$3,C$2+1,1))) | D12: =IF($A12="",0,SUMIFS(入力!$E$4:$E$203,入力!$B$4:$B$203,"支出",入力!$C$4:$C$203,$A12,入力!$A$4:$A$203,">="&DATE(設定!$B$3,D$2,1),入力!$A$4:$A$203,"<"&DATE(設定!$B$3,D$2+1,1))) | E12: =IF($A12="",0,SUMIFS(入力!$E$4:$E$203,入力!$B$4:$B$203,"支出",入力!$C$4:$C$203,$A12,入力!$A$4:$A$203,">="&DATE(設定!$B$3,E$2,1),入力!$A$4:$A$203,"<"&DATE(設定!$B$3,E$2+1,1))) | F12: =IF($A12="",0,SUMIFS(入力!$E$4:$E$203,入力!$B$4:$B$203,"支出",入力!$C$4:$C$203,$A12,入力!$A$4:$A$203,">="&DATE(設定!$B$3,F$2,1),入力!$A$4:$A$203,"<"&DATE(設定!$B$3,F$2+1,1))) | G12: =IF($A12="",0,SUMIFS(入力!$E$4:$E$203,入力!$B$4:$B$203,"支出",入力!$C$4:$C$203,$A12,入力!$A$4:$A$203,">="&DATE(設定!$B$3,G$2,1),入力!$A$4:$A$203,"<"&DATE(設定!$B$3,G$2+1,1))) | H12: =IF($A12="",0,SUMIFS(入力!$E$4:$E$203,入力!$B$4:$B$203,"支出",入力!$C$4:$C$203,$A12,入力!$A$4:$A$203,">="&DATE(設定!$B$3,H$2,1),入力!$A$4:$A$203,"<"&DATE(設定!$B$3,H$2+1,1))) | I12: =IF($A12="",0,SUMIFS(入力!$E$4:$E$203,入力!$B$4:$B$203,"支出",入力!$C$4:$C$203,$A12,入力!$A$4:$A$203,">="&DATE(設定!$B$3,I$2,1),入力!$A$4:$A$203,"<"&DATE(設定!$B$3,I$2+1,1))) | ... M12: =IF($A12="",0,SUMIFS(入力!$E$4:$E$203,入力!$B$4:$B$203,"支出",入力!$C$4:$C$203,$A12,入力!$A$4:$A$203,">="&DATE(設定!$B$3,M$2,1),入力!$A$4:$A$203,"<"&DATE(設定!$B$3,M$2+1,1))) | N12: =SUM(B12:M12) | O12: =ROUND(N12/12,0) | P12: =IF($N$16=0,0,N12/$N$16)
A13: =IF(設定!A9="","",設定!A9) | B13: =IF($A13="",0,SUMIFS(入力!$E$4:$E$203,入力!$B$4:$B$203,"支出",入力!$C$4:$C$203,$A13,入力!$A$4:$A$203,">="&DATE(設定!$B$3,B$2,1),入力!$A$4:$A$203,"<"&DATE(設定!$B$3,B$2+1,1))) | C13: =IF($A13="",0,SUMIFS(入力!$E$4:$E$203,入力!$B$4:$B$203,"支出",入力!$C$4:$C$203,$A13,入力!$A$4:$A$203,">="&DATE(設定!$B$3,C$2,1),入力!$A$4:$A$203,"<"&DATE(設定!$B$3,C$2+1,1))) | D13: =IF($A13="",0,SUMIFS(入力!$E$4:$E$203,入力!$B$4:$B$203,"支出",入力!$C$4:$C$203,$A13,入力!$A$4:$A$203,">="&DATE(設定!$B$3,D$2,1),入力!$A$4:$A$203,"<"&DATE(設定!$B$3,D$2+1,1))) | E13: =IF($A13="",0,SUMIFS(入力!$E$4:$E$203,入力!$B$4:$B$203,"支出",入力!$C$4:$C$203,$A13,入力!$A$4:$A$203,">="&DATE(設定!$B$3,E$2,1),入力!$A$4:$A$203,"<"&DATE(設定!$B$3,E$2+1,1))) | F13: =IF($A13="",0,SUMIFS(入力!$E$4:$E$203,入力!$B$4:$B$203,"支出",入力!$C$4:$C$203,$A13,入力!$A$4:$A$203,">="&DATE(設定!$B$3,F$2,1),入力!$A$4:$A$203,"<"&DATE(設定!$B$3,F$2+1,1))) | G13: =IF($A13="",0,SUMIFS(入力!$E$4:$E$203,入力!$B$4:$B$203,"支出",入力!$C$4:$C$203,$A13,入力!$A$4:$A$203,">="&DATE(設定!$B$3,G$2,1),入力!$A$4:$A$203,"<"&DATE(設定!$B$3,G$2+1,1))) | H13: =IF($A13="",0,SUMIFS(入力!$E$4:$E$203,入力!$B$4:$B$203,"支出",入力!$C$4:$C$203,$A13,入力!$A$4:$A$203,">="&DATE(設定!$B$3,H$2,1),入力!$A$4:$A$203,"<"&DATE(設定!$B$3,H$2+1,1))) | I13: =IF($A13="",0,SUMIFS(入力!$E$4:$E$203,入力!$B$4:$B$203,"支出",入力!$C$4:$C$203,$A13,入力!$A$4:$A$203,">="&DATE(設定!$B$3,I$2,1),入力!$A$4:$A$203,"<"&DATE(設定!$B$3,I$2+1,1))) | ... M13: =IF($A13="",0,SUMIFS(入力!$E$4:$E$203,入力!$B$4:$B$203,"支出",入力!$C$4:$C$203,$A13,入力!$A$4:$A$203,">="&DATE(設定!$B$3,M$2,1),入力!$A$4:$A$203,"<"&DATE(設定!$B$3,M$2+1,1))) | N13: =SUM(B13:M13) | O13: =ROUND(N13/12,0) | P13: =IF($N$16=0,0,N13/$N$16)
A14: =IF(設定!A10="","",設定!A10) | B14: =IF($A14="",0,SUMIFS(入力!$E$4:$E$203,入力!$B$4:$B$203,"支出",入力!$C$4:$C$203,$A14,入力!$A$4:$A$203,">="&DATE(設定!$B$3,B$2,1),入力!$A$4:$A$203,"<"&DATE(設定!$B$3,B$2+1,1))) | C14: =IF($A14="",0,SUMIFS(入力!$E$4:$E$203,入力!$B$4:$B$203,"支出",入力!$C$4:$C$203,$A14,入力!$A$4:$A$203,">="&DATE(設定!$B$3,C$2,1),入力!$A$4:$A$203,"<"&DATE(設定!$B$3,C$2+1,1))) | D14: =IF($A14="",0,SUMIFS(入力!$E$4:$E$203,入力!$B$4:$B$203,"支出",入力!$C$4:$C$203,$A14,入力!$A$4:$A$203,">="&DATE(設定!$B$3,D$2,1),入力!$A$4:$A$203,"<"&DATE(設定!$B$3,D$2+1,1))) | E14: =IF($A14="",0,SUMIFS(入力!$E$4:$E$203,入力!$B$4:$B$203,"支出",入力!$C$4:$C$203,$A14,入力!$A$4:$A$203,">="&DATE(設定!$B$3,E$2,1),入力!$A$4:$A$203,"<"&DATE(設定!$B$3,E$2+1,1))) | F14: =IF($A14="",0,SUMIFS(入力!$E$4:$E$203,入力!$B$4:$B$203,"支出",入力!$C$4:$C$203,$A14,入力!$A$4:$A$203,">="&DATE(設定!$B$3,F$2,1),入力!$A$4:$A$203,"<"&DATE(設定!$B$3,F$2+1,1))) | G14: =IF($A14="",0,SUMIFS(入力!$E$4:$E$203,入力!$B$4:$B$203,"支出",入力!$C$4:$C$203,$A14,入力!$A$4:$A$203,">="&DATE(設定!$B$3,G$2,1),入力!$A$4:$A$203,"<"&DATE(設定!$B$3,G$2+1,1))) | H14: =IF($A14="",0,SUMIFS(入力!$E$4:$E$203,入力!$B$4:$B$203,"支出",入力!$C$4:$C$203,$A14,入力!$A$4:$A$203,">="&DATE(設定!$B$3,H$2,1),入力!$A$4:$A$203,"<"&DATE(設定!$B$3,H$2+1,1))) | I14: =IF($A14="",0,SUMIFS(入力!$E$4:$E$203,入力!$B$4:$B$203,"支出",入力!$C$4:$C$203,$A14,入力!$A$4:$A$203,">="&DATE(設定!$B$3,I$2,1),入力!$A$4:$A$203,"<"&DATE(設定!$B$3,I$2+1,1))) | ... M14: =IF($A14="",0,SUMIFS(入力!$E$4:$E$203,入力!$B$4:$B$203,"支出",入力!$C$4:$C$203,$A14,入力!$A$4:$A$203,">="&DATE(設定!$B$3,M$2,1),入力!$A$4:$A$203,"<"&DATE(設定!$B$3,M$2+1,1))) | N14: =SUM(B14:M14) | O14: =ROUND(N14/12,0) | P14: =IF($N$16=0,0,N14/$N$16)
A15: =IF(設定!A11="","",設定!A11) | B15: =IF($A15="",0,SUMIFS(入力!$E$4:$E$203,入力!$B$4:$B$203,"支出",入力!$C$4:$C$203,$A15,入力!$A$4:$A$203,">="&DATE(設定!$B$3,B$2,1),入力!$A$4:$A$203,"<"&DATE(設定!$B$3,B$2+1,1))) | C15: =IF($A15="",0,SUMIFS(入力!$E$4:$E$203,入力!$B$4:$B$203,"支出",入力!$C$4:$C$203,$A15,入力!$A$4:$A$203,">="&DATE(設定!$B$3,C$2,1),入力!$A$4:$A$203,"<"&DATE(設定!$B$3,C$2+1,1))) | D15: =IF($A15="",0,SUMIFS(入力!$E$4:$E$203,入力!$B$4:$B$203,"支出",入力!$C$4:$C$203,$A15,入力!$A$4:$A$203,">="&DATE(設定!$B$3,D$2,1),入力!$A$4:$A$203,"<"&DATE(設定!$B$3,D$2+1,1))) | E15: =IF($A15="",0,SUMIFS(入力!$E$4:$E$203,入力!$B$4:$B$203,"支出",入力!$C$4:$C$203,$A15,入力!$A$4:$A$203,">="&DATE(設定!$B$3,E$2,1),入力!$A$4:$A$203,"<"&DATE(設定!$B$3,E$2+1,1))) | F15: =IF($A15="",0,SUMIFS(入力!$E$4:$E$203,入力!$B$4:$B$203,"支出",入力!$C$4:$C$203,$A15,入力!$A$4:$A$203,">="&DATE(設定!$B$3,F$2,1),入力!$A$4:$A$203,"<"&DATE(設定!$B$3,F$2+1,1))) | G15: =IF($A15="",0,SUMIFS(入力!$E$4:$E$203,入力!$B$4:$B$203,"支出",入力!$C$4:$C$203,$A15,入力!$A$4:$A$203,">="&DATE(設定!$B$3,G$2,1),入力!$A$4:$A$203,"<"&DATE(設定!$B$3,G$2+1,1))) | H15: =IF($A15="",0,SUMIFS(入力!$E$4:$E$203,入力!$B$4:$B$203,"支出",入力!$C$4:$C$203,$A15,入力!$A$4:$A$203,">="&DATE(設定!$B$3,H$2,1),入力!$A$4:$A$203,"<"&DATE(設定!$B$3,H$2+1,1))) | I15: =IF($A15="",0,SUMIFS(入力!$E$4:$E$203,入力!$B$4:$B$203,"支出",入力!$C$4:$C$203,$A15,入力!$A$4:$A$203,">="&DATE(設定!$B$3,I$2,1),入力!$A$4:$A$203,"<"&DATE(設定!$B$3,I$2+1,1))) | ... M15: =IF($A15="",0,SUMIFS(入力!$E$4:$E$203,入力!$B$4:$B$203,"支出",入力!$C$4:$C$203,$A15,入力!$A$4:$A$203,">="&DATE(設定!$B$3,M$2,1),入力!$A$4:$A$203,"<"&DATE(設定!$B$3,M$2+1,1))) | N15: =SUM(B15:M15) | O15: =ROUND(N15/12,0) | P15: =IF($N$16=0,0,N15/$N$16)
A16: 支出合計 | B16: =SUM(B10:B15) | C16: =SUM(C10:C15) | D16: =SUM(D10:D15) | E16: =SUM(E10:E15) | F16: =SUM(F10:F15) | G16: =SUM(G10:G15) | H16: =SUM(H10:H15) | I16: =SUM(I10:I15) | ... M16: =SUM(M10:M15) | N16: =SUM(B16:M16) | O16: =ROUND(N16/12,0)
A18: 収支（収入−支出） | B18: =B7-B16 | C18: =C7-C16 | D18: =D7-D16 | E18: =E7-E16 | F18: =F7-F16 | G18: =G7-G16 | H18: =H7-H16 | I18: =I7-I16 | ... M18: =M7-M16 | N18: =SUM(B18:M18) | O18: =ROUND(N18/12,0)
A19: 累計収支 | B19: =SUM($B18:B18) | C19: =SUM($B18:C18) | D19: =SUM($B18:D18) | E19: =SUM($B18:E18) | F19: =SUM($B18:F18) | G19: =SUM($B18:G18) | H19: =SUM($B18:H18) | I19: =SUM($B18:I18) | ... M19: =SUM($B18:M18) | N19: =M19
A21: 無料版｜全機能版はBOOTHで販売中 © Kentinua ｜ https://tools.kentinua.com/
A22: ※グラフ・費目の追加（最大20）・入力1000行は全機能版で利用できます。

Sheet 設定
A1: 設定
A3: 年 | B3: 2026
A5: 支出の費目 | B5: 収入の費目 | D5: 費目は自由に書き換え・追加できます
A6: 食費 | B6: 給与
A7: 日用品 | B7: その他収入 | D7: 無料版｜全機能版はBOOTHで販売中 © Kentinua ｜ https://tools.kentinua.com/
A8: 住居費
A9: 水道光熱費
A10: 通信費
A11: その他
